BEGIN:VCALENDAR
VERSION:2.0
PRODID:-//Persatuan Memanah Kebangsaan Malaysia (NAAM) - ECPv6.15.19//NONSGML v1.0//EN
CALSCALE:GREGORIAN
METHOD:PUBLISH
X-ORIGINAL-URL:https://masarchery.org
X-WR-CALDESC:Events for Persatuan Memanah Kebangsaan Malaysia (NAAM)
REFRESH-INTERVAL;VALUE=DURATION:PT1H
X-Robots-Tag:noindex
X-PUBLISHED-TTL:PT1H
BEGIN:VTIMEZONE
TZID:Asia/Kuala_Lumpur
BEGIN:STANDARD
TZOFFSETFROM:+0800
TZOFFSETTO:+0800
TZNAME:+08
DTSTART:20230101T000000
END:STANDARD
END:VTIMEZONE
BEGIN:VEVENT
DTSTART;VALUE=DATE:20251002
DTEND;VALUE=DATE:20251006
DTSTAMP:20260423T205208
CREATED:20250916T151621Z
LAST-MODIFIED:20250916T151621Z
UID:10000042-1759363200-1759708799@masarchery.org
SUMMARY:Kejohanan Memanah Kebangsaan Grand Final 2025
DESCRIPTION:
URL:https://masarchery.org/event/kejohanan-memanah-kebangsaan-grand-final-2025/
LOCATION:Kompleks Sukan MSN\, Nilai\, PERSIARAN PERBANDARAN BANDAR BARU NILAI\, NILAI\, NEGERI SEMBILAN\, 71800
CATEGORIES:Kebangsaan
ATTACH;FMTTYPE=image/webp:https://masarchery.org/wp-content/uploads/2025/03/logo-kmk.webp
END:VEVENT
BEGIN:VEVENT
DTSTART;VALUE=DATE:20250717
DTEND;VALUE=DATE:20250721
DTSTAMP:20260423T205208
CREATED:20250703T080441Z
LAST-MODIFIED:20250703T082647Z
UID:10000035-1752710400-1753055999@masarchery.org
SUMMARY:Karnival Bakat Olimpik Kebangsaan Siri 01/2025 - Memanah
DESCRIPTION:
URL:https://masarchery.org/event/karnival-bakat-olimpik-kebangsaan-siri-01-2025-memanah/
LOCATION:Universiti Sultan Zainal Abidin – UniSZA\, Universiti Sultan Zainal Abidin\, Kampung Gong Badak\, Kuala Terengganu\, Terengganu\, 21300
CATEGORIES:Kebangsaan
ATTACH;FMTTYPE=image/jpeg:https://masarchery.org/wp-content/uploads/2024/02/msnm.jpg
END:VEVENT
BEGIN:VEVENT
DTSTART;VALUE=DATE:20241121
DTEND;VALUE=DATE:20241125
DTSTAMP:20260423T205208
CREATED:20241023T143006Z
LAST-MODIFIED:20241023T145124Z
UID:10000027-1732147200-1732492799@masarchery.org
SUMMARY:KBS Masters Games 2024 - Archery
DESCRIPTION:  \nMaklumat Kejohanan
URL:https://masarchery.org/event/kbs-masters-games-2024-archery/
LOCATION:MSN Bukit Jalil\, Majlis Sukan Negara Malaysia\, Kompleks Sukan Negara\, Bukit Jalil\, Kuala Lumpur\, 57000
CATEGORIES:Kebangsaan
ATTACH;FMTTYPE=image/jpeg:https://masarchery.org/wp-content/uploads/2024/10/kbs-masters-2024-archery-big.jpg
END:VEVENT
BEGIN:VEVENT
DTSTART;VALUE=DATE:20241107
DTEND;VALUE=DATE:20241111
DTSTAMP:20260423T205208
CREATED:20241023T144253Z
LAST-MODIFIED:20241023T144324Z
UID:10000028-1730937600-1731283199@masarchery.org
SUMMARY:Kejohanan Memanah Wanita Kebangsaan 2024 Ke-4
DESCRIPTION:
URL:https://masarchery.org/event/kejohanan-memanah-wanita-kebangsaan-2024-ke-4/
LOCATION:SK Residensi\, Jalan Residensi\, Georgetown\, Pulau Pinang\, 10450
CATEGORIES:Kebangsaan
ATTACH;FMTTYPE=image/jpeg:https://masarchery.org/wp-content/uploads/2024/10/WOMEN-OPEN.jpg
END:VEVENT
BEGIN:VEVENT
DTSTART;VALUE=DATE:20241017
DTEND;VALUE=DATE:20241021
DTSTAMP:20260423T205208
CREATED:20240923T182800Z
LAST-MODIFIED:20240923T182800Z
UID:10000025-1729123200-1729468799@masarchery.org
SUMMARY:KEJOHANAN MEMANAH KEBANGSAAN 2024 - FINAL
DESCRIPTION:Dimaklumkan bahawa Persatuan Memanah Kebangsaan Malaysia (NAAM) akan menganjurkan Kejohanan Memanah Kebangsaan 2024 – Final pada 17 hingga 20 Oktober 2024 bertempat di Lapang Sasar Memanah\, Kompleks Sukan MSN Nilai\, Negeri Sembilan. \nTarikh Penting\nTarikh akhir pengesahan pendaftaran: 9 Oktober 2024\nTarikh Akhir Pendaftaran Pegawai: 10 Oktober 2024\nTarikh akhir bayaran: 10 Oktober 2024\nMesyuarat Pengurus Pasukan: 16 Oktober 2024 (9.00 malam\, Google Meet)\nTarikh kejohanan: 17 – 20 Oktober 2024 \nTENTATIF PROGRAM\n17/10/2024 – Khamis\nPractice\nEquipment Inspection\nCompound Qualification Rounds \n18/10/2024 – Jumaat\nBarebow Qualification Rounds\nRecurve Qualification Rounds \n19/10/2024 – Sabtu\nRecurve & Barebow 1/16 – Semi Finals\nCompound Team 1/16 – Semi Final \n20/10/2024 – Ahad\nBronze & Gold Medal Matches (All Categories) \nPENDAFTARAN\nSemua pengesahan pendaftaran peserta perlulah dilakukan sebelum 10 Oktober 2024 oleh negeri masing-masing. Sekiranya tiada pengesahan daripada negeri\, penyertaan atlet tersebut tidak akan diterima. Pendaftaran untuk Pengurus dan Jurulatih adalah sebelum atau pada 10 Oktober 2024 di MAREOS. \nMAKLUMAT LANJUT KLIK DISINI
URL:https://masarchery.org/event/kejohanan-memanah-kebangsaan-2024-final/
LOCATION:Kompleks Sukan MSN\, Nilai\, PERSIARAN PERBANDARAN BANDAR BARU NILAI\, NILAI\, NEGERI SEMBILAN\, 71800
CATEGORIES:Kebangsaan
ATTACH;FMTTYPE=image/jpeg:https://masarchery.org/wp-content/uploads/2021/06/logo-persatuan-memanah-kebangsaan-malaysia.jpg
END:VEVENT
BEGIN:VEVENT
DTSTART;VALUE=DATE:20241003
DTEND;VALUE=DATE:20241006
DTSTAMP:20260423T205208
CREATED:20240610T042601Z
LAST-MODIFIED:20240807T035434Z
UID:10000016-1727913600-1728172799@masarchery.org
SUMMARY:Kejohanan Memanah Kebangsaan Bawah 12 dan 15 Tahun 2024 Siri 2
DESCRIPTION:Persatuan Pemanah Negeri Kedah dengan kerjasama Persatuan Memanah Kebangsaan Malaysia akan menganjurkan kejohanan tersebut pada 3 hingga 5 Oktober 2024 bertempat di SMK Seri Mahawangsa\, Jitra\, Kedah. \nTARIKH PENTING\nTarikh mula pendafataran MAREOS: 10 Ogos 2024\nTarikh akhir pendaftaran MAREOS: 20 September 2024\nTarikh akhir bayaran: 3 Oktober 2024\nMesyuarat Pengurus Pasukan: 3 Oktober 2024\nTarikh kejohanan: 3 – 5 Oktober 2024 \nTENTATIF PROGRAM (Tidak Rasmi)\nTempat Pertandingan: SMK Seri Mahawangsa\, Jitra\, Kedah Darul Aman. \nMAKLUMAT KEJOHANAN\nMuat Turun/Download \n03/10/2024 (Khamis)\n1400 Latihan Rasmi\, Pengesahan Pendafataran & Pembayaran Yuran\n1500 Mesyuarat Pengurus Pasukan\n1600 Pemeriksaan Peralatan \n04/10/2023 (Jumaat)\n0830 Pusingan 50m x 2 bawah 15 tahun\n1430 Pusingan 30m x 2 bawah 12 tahun \n05/10/2023 (Sabtu)\n0830 Pusingan 30m x 2 bawah 15 tahun\n1400 Pusingan 20m x 2 bawah 12 tahun \nPENDAFTARAN\nSemua pendaftaran peserta (pengurus\, jurulatih dan atlet) hendaklah didaftarkan melalui Malaysia Archery Results & Entry Online System (MAREOS). Tiada pendaftaran secara manual yang diterima. Ahli gabungan perlu daftar masuk di MAREOS melalui https://mareos.masarchery.org/ dengan menggunakan alamat email dan kata laluan yang telah ditetapkan oleh NAAM. Selepas daftar masuk\, pilih kejohanan yang ingin didaftarkan. \nHubungi pihak NAAM (events@masarchery.org) jika ada sebarang pertanyaan ataupun memerlukan bantuan mengenai MAREOS. Untuk pertanyaan selain daripada MAREOS sila hubungi pihak penganjur. \nKATEGORI\nKategori bagi kejohanan ini adalah seperti berikut:\n1. Recurve Lelaki bawah 15 tahun (umur dari 13 hingga 15 tahun) RU15M\n2. Recurve Wanita bawah 15 tahun (umur dari 13 hingga 15 tahun) RU15W\n3. Recurve Lelaki bawah 12 tahun (umur dari 10 hingga 12 tahun) RU12B\n4. Recurve Wanita bawah 12 tahun (umur dari 10 hingga 12 tahun) RU12G \nPENYERTAAN\nPenyertaan bagi kejohanan ini adalah terhad. Setiap pasukan boleh menghantar 32 orang atlet (8 RM15\, 8 RW15\, 8 RB12\, 8 RG12). Setiap peserta haruslah didaftarkan atas nama pasukan negeri masing-masing. Selain daripada pasukan negeri\, ATM\, PDRM dan MASUM\, pasukan projek khas NAAM/MSNM sahaja akan dibenarkan masuk (jika ada). \nGANTI RUGI\nPersatuan Memanah Kebangsaan Malaysia dan Jawatankuasa Pengelola Pertandingan tidak bertanggungjawab di atas sebarang kemalangan atau kecelakaan yang mungkin berlaku kepada manamana atlet dan pegawai semasa kejohanan ini berlangsung termasuklah perjalanan dari rumah/tempat pertandingan/ rumah.
URL:https://masarchery.org/event/kejohanan-memanah-kebangsaan-bawah-12-dan-15-tahun-2024-siri-2/
LOCATION:SMK Seri Mahawangsa\, Sekolah Menengah Kebangsaan Seri Mahawangsa\, Kedah\, 06000
CATEGORIES:Kebangsaan
ATTACH;FMTTYPE=image/jpeg:https://masarchery.org/wp-content/uploads/2024/01/logo-u12-dan-15.jpg
END:VEVENT
END:VCALENDAR