BEGIN:VCALENDAR
VERSION:2.0
PRODID:-//Persatuan Memanah Kebangsaan Malaysia (NAAM) - ECPv6.15.19//NONSGML v1.0//EN
CALSCALE:GREGORIAN
METHOD:PUBLISH
X-ORIGINAL-URL:https://masarchery.org
X-WR-CALDESC:Events for Persatuan Memanah Kebangsaan Malaysia (NAAM)
REFRESH-INTERVAL;VALUE=DURATION:PT1H
X-Robots-Tag:noindex
X-PUBLISHED-TTL:PT1H
BEGIN:VTIMEZONE
TZID:Asia/Kuala_Lumpur
BEGIN:STANDARD
TZOFFSETFROM:+0800
TZOFFSETTO:+0800
TZNAME:+08
DTSTART:20230101T000000
END:STANDARD
END:VTIMEZONE
BEGIN:VEVENT
DTSTART;VALUE=DATE:20241220
DTEND;VALUE=DATE:20241223
DTSTAMP:20260424T060734
CREATED:20240925T163404Z
LAST-MODIFIED:20241216T024240Z
UID:10000026-1734652800-1734911999@masarchery.org
SUMMARY:Selangor Indoor Archery Tournament 2024
DESCRIPTION:Persatuan Memanah Negeri Selangor (SELAR) akan menganjurkan Selangor Indoor Archery Tournament 2024 pada hujung tahun ini.
URL:https://masarchery.org/event/selangor-indoor-archery-tournament-2024/
LOCATION:MAEPS Serdang (Malaysia Agro Exposition Park Serdang)\, MAEPS - Hall C\, Serdang\, Selangor\, 43400\, Malaysia
CATEGORIES:Indoor,Open Tournament
ATTACH;FMTTYPE=image/jpeg:https://masarchery.org/wp-content/uploads/2024/09/selangor-indoor-championship-2024-800x600-1.jpg
END:VEVENT
BEGIN:VEVENT
DTSTART;VALUE=DATE:20240202
DTEND;VALUE=DATE:20240205
DTSTAMP:20260424T060734
CREATED:20231102T145644Z
LAST-MODIFIED:20231110T002522Z
UID:10000001-1706832000-1707091199@masarchery.org
SUMMARY:Selangor International Indoor Archery Championship 2024
DESCRIPTION:Selangor Archery Association (SELAR) cordially invites archery enthusiast in Malaysia and surrounding region to participate in the inaugural Selangor International Indoor Archery Championship 2024. \nBrowse the official website for more details. \nClick here to Download the Technical Handbook.
URL:https://masarchery.org/event/selangor-international-indoor-archery-championship-2024-2-2-2/
LOCATION:MAEPS Serdang (Malaysia Agro Exposition Park Serdang)\, MAEPS - Hall C\, Serdang\, Selangor\, 43400\, Malaysia
CATEGORIES:Indoor
ATTACH;FMTTYPE=image/png:https://masarchery.org/wp-content/uploads/2023/11/Logo-SIIAC-24a-long.png
END:VEVENT
END:VCALENDAR