BEGIN:VCALENDAR
VERSION:2.0
PRODID:-//Persatuan Memanah Kebangsaan Malaysia (NAAM) - ECPv6.15.19//NONSGML v1.0//EN
CALSCALE:GREGORIAN
METHOD:PUBLISH
X-WR-CALNAME:Persatuan Memanah Kebangsaan Malaysia (NAAM)
X-ORIGINAL-URL:https://masarchery.org
X-WR-CALDESC:Events for Persatuan Memanah Kebangsaan Malaysia (NAAM)
REFRESH-INTERVAL;VALUE=DURATION:PT1H
X-Robots-Tag:noindex
X-PUBLISHED-TTL:PT1H
BEGIN:VTIMEZONE
TZID:Asia/Kuala_Lumpur
BEGIN:STANDARD
TZOFFSETFROM:+0800
TZOFFSETTO:+0800
TZNAME:+08
DTSTART:20230101T000000
END:STANDARD
END:VTIMEZONE
BEGIN:VEVENT
DTSTART;VALUE=DATE:20240922
DTEND;VALUE=DATE:20240929
DTSTAMP:20260424T012328
CREATED:20240610T144745Z
LAST-MODIFIED:20240723T034731Z
UID:9144-1726963200-1727567999@masarchery.org
SUMMARY:PARA SUKMA | Memanah
DESCRIPTION:
URL:https://masarchery.org/event/para-sukma-memanah/
LOCATION:Lapang Sasar Memanah Petra Jaya\, Stadium Sarawak\, Kuching\, 93050
CATEGORIES:Para Sukma
ATTACH;FMTTYPE=image/jpeg:https://masarchery.org/wp-content/uploads/2024/06/para-sukma-2024-logo.jpg
END:VEVENT
END:VCALENDAR