BEGIN:VCALENDAR
VERSION:2.0
PRODID:-//Persatuan Memanah Kebangsaan Malaysia (NAAM) - ECPv6.15.19//NONSGML v1.0//EN
CALSCALE:GREGORIAN
METHOD:PUBLISH
X-WR-CALNAME:Persatuan Memanah Kebangsaan Malaysia (NAAM)
X-ORIGINAL-URL:https://masarchery.org
X-WR-CALDESC:Events for Persatuan Memanah Kebangsaan Malaysia (NAAM)
REFRESH-INTERVAL;VALUE=DURATION:PT1H
X-Robots-Tag:noindex
X-PUBLISHED-TTL:PT1H
BEGIN:VTIMEZONE
TZID:Asia/Kuala_Lumpur
BEGIN:STANDARD
TZOFFSETFROM:+0800
TZOFFSETTO:+0800
TZNAME:+08
DTSTART:20240101T000000
END:STANDARD
END:VTIMEZONE
BEGIN:VEVENT
DTSTART;VALUE=DATE:20250619
DTEND;VALUE=DATE:20250621
DTSTAMP:20260423T225211
CREATED:20250515T180019Z
LAST-MODIFIED:20250515T180019Z
UID:10434-1750291200-1750463999@masarchery.org
SUMMARY:Kursus Asas Kejurulatihan Memanah
DESCRIPTION:Persatuan Memanah Selangor (SELAR) dengan kerjasama Persatuan Memanah Kebangsaan Malaysia (NAAM) akan menganjurkan Kursus Asas Kejurulatihan Memanah seperti berikut: \nTarikh: 19 dan 20 Jun 2025 (Hari Khamis dan Jumaat).\nTempat: Dewan Seminar\, Sekolah Kebangsaan Saujana Impian (SBT)\, Kajang\, Selangor. \nMatlamat kursus ini adalah untuk memberi pendedahan dan pengetahuan asas dalam bidang Kehakiman Memanah\, sepertimana mengikut peraturan dan undang-undang World Archery (WA). Dalam masa yang sama\, ianya bertujuan untuk melayakkan seramai mana Guru-guru KPM sebagai Hakim Memanah bertauliah di peringat Kejohanan Memanah MSS Daerah\, Negeri dan MSSM. \nPenganjuran kursus asas ini diiktiraf oleh NAAM dan akan melayakkan peserta untuk mengikuti Kursus Kehakiman Memanah Kebangsaan. \nPihak Persatuan menjemput guru-guru\, tenaga pengajar sukan memanah dan semua penggiat sukan memanah untuk bersama-sama menyertai kursus ini. Bersama ini dilampirkan Maklumat Am kursus tersebut untuk dimuat turun. \n \nUntuk sebarang pertanyaan\, pihak YBhg Datuk / Dato’ / Tuan / Puan boleh hubungi En. Ameer Hazeem bin Mustafa\, EXCO Kehakiman dan Kejurulatihan\, SELAR\, di nombor 019-2802328. Pendaftaran peserta adalah melalui sistem MAREOS (https://mareos.masarchery.org).
URL:https://masarchery.org/event/kursus-asas-kejurulatihan-memanah-4/
LOCATION:Sekolah Kebangsaan Saujana Impian\, SK Saujana Impian\, Kajang\, Selangor\, 43000
CATEGORIES:Kursus Kejurulatihan
ATTACH;FMTTYPE=image/png:https://masarchery.org/wp-content/uploads/2021/05/selar-logo-800x600-1-600x450.png
END:VEVENT
END:VCALENDAR