BEGIN:VCALENDAR
VERSION:2.0
PRODID:-//Persatuan Memanah Kebangsaan Malaysia (NAAM) - ECPv6.15.19//NONSGML v1.0//EN
CALSCALE:GREGORIAN
METHOD:PUBLISH
X-WR-CALNAME:Persatuan Memanah Kebangsaan Malaysia (NAAM)
X-ORIGINAL-URL:https://masarchery.org
X-WR-CALDESC:Events for Persatuan Memanah Kebangsaan Malaysia (NAAM)
REFRESH-INTERVAL;VALUE=DURATION:PT1H
X-Robots-Tag:noindex
X-PUBLISHED-TTL:PT1H
BEGIN:VTIMEZONE
TZID:Asia/Kuala_Lumpur
BEGIN:STANDARD
TZOFFSETFROM:+0800
TZOFFSETTO:+0800
TZNAME:+08
DTSTART:20240101T000000
END:STANDARD
END:VTIMEZONE
BEGIN:VEVENT
DTSTART;VALUE=DATE:20250717
DTEND;VALUE=DATE:20250721
DTSTAMP:20260423T210209
CREATED:20250703T080441Z
LAST-MODIFIED:20250703T082647Z
UID:10459-1752710400-1753055999@masarchery.org
SUMMARY:Karnival Bakat Olimpik Kebangsaan Siri 01/2025 - Memanah
DESCRIPTION:
URL:https://masarchery.org/event/karnival-bakat-olimpik-kebangsaan-siri-01-2025-memanah/
LOCATION:Universiti Sultan Zainal Abidin – UniSZA\, Universiti Sultan Zainal Abidin\, Kampung Gong Badak\, Kuala Terengganu\, Terengganu\, 21300
CATEGORIES:Kebangsaan
ATTACH;FMTTYPE=image/jpeg:https://masarchery.org/wp-content/uploads/2024/02/msnm.jpg
END:VEVENT
END:VCALENDAR